{"text_format":"1","workbook":"xlsx","n_sheets":5,"sheets":["Choke","28-053-31","28-042-31","42-001-31","Mix"],"not_rendered":{"charts":11,"images":0,"macros":1,"external_links":0,"defined_names":2,"comments":0,"pivot_tables":0},"unopened":[],"bounds":{"document_bytes":16777216,"sheet_cells":100000,"rows_first":2000,"rows_last":500,"rows_between":2000,"halvings":0,"cell_chars":16384,"cell_head_chars":4096},"cells_cut":0,"cells_raw":0,"read":"whole","date_system":"1900"}

{"sheet":"Choke","index":0,"n_rows":35,"n_cols":31,"rows_kept":35,"cut":false,"hidden":false,"merged":[]}
["Calculate impedance of ferrite cored inductor"]
[]
["Reference:"]
["A method for estimating the impedance of a ferrite cored toroidal inductor at RF"]
[]
["Inputs:"]
["Al (nH for 1t)",567,"Neosid 28-053-31"]
["N",11]
["Cs (pF)",5]
[]
["Constants:"]
["Mix",{"$f":"Mix!B1","v":"F14"}]
["µ",{"$f":"Mix!B2","v":220}]
[]
["Calculated values:"]
["2*pi*N^2*Al",{"$f":"2*PI()*$B$8^2*$B$7*0.000000001","v":4.3107049436966991E-4}]
[]
["f (MHz)",1.04,{"$f":"B18*2^(1/5)","v":1.1946462891969165},{"$f":"C18*2^(1/5)","v":1.3722882272038102},1.5763452291708142,1.8107451716559386,2.0800000000000005,2.3892925783938335,2.7445764544076212,3.1526904583416298,3.6214903433118786,4.1600000000000028,4.7785851567876696,5.4891529088152451,6.3053809166832622,7.2429806866237607,8.3200000000000092,9.5571703135753427,10.978305817630494,12.610761833366528,14.485961373247525,16.640000000000022,19.114340627150689,21.956611635260991,25.221523666733063,28.971922746495057,33.280000000000058,38.228681254301392,43.913223270522003,50.443047333466147,57.943845492990143]
["µ''",{"$f":"csinterpolate(CSTableU2,Choke!B18*1000000)","v":1.9121445035223179},{"$f":"csinterpolate(CSTableU2,Choke!C18*1000000)","v":1.9574362303797543},{"$f":"csinterpolate(CSTableU2,Choke!D18*1000000)","v":2.0226374329293155},{"$f":"csinterpolate(CSTableU2,Choke!E18*1000000)","v":2.13811662060994},{"$f":"csinterpolate(CSTableU2,Choke!F18*1000000)","v":2.2733346634365299},{"$f":"csinterpolate(CSTableU2,Choke!G18*1000000)","v":2.4696466463547706},{"$f":"csinterpolate(CSTableU2,Choke!H18*1000000)","v":2.7791213259113334},{"$f":"csinterpolate(CSTableU2,Choke!I18*1000000)","v":3.1775320463613363},{"$f":"csinterpolate(CSTableU2,Choke!J18*1000000)","v":3.761712878740791},{"$f":"csinterpolate(CSTableU2,Choke!K18*1000000)","v":4.5431176223534013},{"$f":"csinterpolate(CSTableU2,Choke!L18*1000000)","v":6.0421780525816695},{"$f":"csinterpolate(CSTableU2,Choke!M18*1000000)","v":8.8077479841265731},{"$f":"csinterpolate(CSTableU2,Choke!N18*1000000)","v":13.980324367016085},{"$f":"csinterpolate(CSTableU2,Choke!O18*1000000)","v":23.484815673283332},{"$f":"csinterpolate(CSTableU2,Choke!P18*1000000)","v":38.259354026927227},{"$f":"csinterpolate(CSTableU2,Choke!Q18*1000000)","v":56.472371106696684},{"$f":"csinterpolate(CSTableU2,Choke!R18*1000000)","v":80.674965517493945},{"$f":"csinterpolate(CSTableU2,Choke!S18*1000000)","v":95.766108505532216},{"$f":"csinterpolate(CSTableU2,Choke!T18*1000000)","v":106.15987426408267},{"$f":"csinterpolate(CSTableU2,Choke!U18*1000000)","v":111.79845317976333},{"$f":"csinterpolate(CSTableU2,Choke!V18*1000000)","v":115.41576165229573},{"$f":"csinterpolate(CSTableU2,Choke!W18*1000000)","v":118.74905396107683},{"$f":"csinterpolate(CSTableU2,Choke!X18*1000000)","v":121.58877771325294},{"$f":"csinterpolate(CSTableU2,Choke!Y18*1000000)","v":124.23422193122427},{"$f":"csinterpolate(CSTableU2,Choke!Z18*1000000)","v":125.68862620524732},{"$f":"csinterpolate(CSTableU2,Choke!AA18*1000000)","v":126.48837881104612},{"$f":"csinterpolate(CSTableU2,Choke!AB18*1000000)","v":131.67124057216782},{"$f":"csinterpolate(CSTableU2,Choke!AC18*1000000)","v":151.46200540619219},{"$f":"csinterpolate(CSTableU2,Choke!AD18*1000000)","v":204.89884681421552},{"$f":"csinterpolate(CSTableU2,Choke!AE18*1000000)","v":325.6578397936072}]
["µ'",{"$f":"csinterpolate(CSTableU1,Choke!B18*1000000)","v":216.56677081846061},{"$f":"csinterpolate(CSTableU1,Choke!C18*1000000)","v":217.14871349507604},{"$f":"csinterpolate(CSTableU1,Choke!D18*1000000)","v":217.9262915874186},{"$f":"csinterpolate(CSTableU1,Choke!E18*1000000)","v":218.26130634875207},{"$f":"csinterpolate(CSTableU1,Choke!F18*1000000)","v":218.86564770997416},{"$f":"csinterpolate(CSTableU1,Choke!G18*1000000)","v":220.69798291534474},{"$f":"csinterpolate(CSTableU1,Choke!H18*1000000)","v":222.86931423204547},{"$f":"csinterpolate(CSTableU1,Choke!I18*1000000)","v":225.43540443442456},{"$f":"csinterpolate(CSTableU1,Choke!J18*1000000)","v":229.21687247983448},{"$f":"csinterpolate(CSTableU1,Choke!K18*1000000)","v":235.77294877348464},{"$f":"csinterpolate(CSTableU1,Choke!L18*1000000)","v":244.24136720170733},{"$f":"csinterpolate(CSTableU1,Choke!M18*1000000)","v":253.20428554657747},{"$f":"csinterpolate(CSTableU1,Choke!N18*1000000)","v":258.23510458974437},{"$f":"csinterpolate(CSTableU1,Choke!O18*1000000)","v":263.84961579974163},{"$f":"csinterpolate(CSTableU1,Choke!P18*1000000)","v":265.12039210045725},{"$f":"csinterpolate(CSTableU1,Choke!Q18*1000000)","v":266.95307501135346},{"$f":"csinterpolate(CSTableU1,Choke!R18*1000000)","v":259.57203478269071},{"$f":"csinterpolate(CSTableU1,Choke!S18*1000000)","v":251.20457283472493},{"$f":"csinterpolate(CSTableU1,Choke!T18*1000000)","v":237.84015515956833},{"$f":"csinterpolate(CSTableU1,Choke!U18*1000000)","v":218.25882830152995},{"$f":"csinterpolate(CSTableU1,Choke!V18*1000000)","v":198.96334379253616},{"$f":"csinterpolate(CSTableU1,Choke!W18*1000000)","v":182.68089201570345},{"$f":"csinterpolate(CSTableU1,Choke!X18*1000000)","v":168.49007711967346},{"$f":"csinterpolate(CSTableU1,Choke!Y18*1000000)","v":155.67988040016419},{"$f":"csinterpolate(CSTableU1,Choke!Z18*1000000)","v":144.24901848827639},{"$f":"csinterpolate(CSTableU1,Choke!AA18*1000000)","v":131.93407537755965},{"$f":"csinterpolate(CSTableU1,Choke!AB18*1000000)","v":113.8081278926735},{"$f":"csinterpolate(CSTableU1,Choke!AC18*1000000)","v":80.072509261330453},{"$f":"csinterpolate(CSTableU1,Choke!AD18*1000000)","v":12.66483834112536},{"$f":"csinterpolate(CSTableU1,Choke!AE18*1000000)","v":-120.18242149596054}]
["Rl",{"$f":"B19/$B$13*$B$16*B18*1000000","v":3.89654472498726},4.581973547789711,5.4386234981603279,6.6040194391416271,8.065779154538907,10.065231570845913,13.010753764329326,17.087986380703132,23.237670701597942,32.237913761102959,49.250706680068902,82.468828669911076,150.36549680431881,290.15101933359938,542.97592895544176,920.62966721595922,1510.7539228423918,2060.0263777032997,2623.1754303348944,3173.2824829368324,3763.0852807889069,4447.4911877493796,5230.9965024324792,6139.5731831046178,7135.0811124406837,8248.2071717148592,9862.9279575851342,13032.407026900184,20251.931321243188,36973.832429916329]
["Xl",{"$f":"B20/$B$13*$B$16*B18*1000000","v":441.3171216326686},508.30246509638522,585.97701743201833,674.14559900311519,776.53414050141782,899.47131041613557,1043.3865344641652,1212.3361981872167,1415.9683031735162,1673.0423074151454,1990.848305115831,2370.8058950892728,2777.4498484143414,3259.8184307729134,3762.5828989287379,4351.9497374325001,4860.8569869558378,5403.6658094896775,5876.9516795924001,6195.0491880412701,6487.1211671923584,6841.9210958627627,7248.7857899695191,7693.5968527489558,8188.7158637814691,8603.3167390688632,8524.8787929346836,6889.7643970864156,1251.7758897475831,-13645.010715017488]
["Yl",{"$f":"IMDIV(1,COMPLEX(B21,B22))","v":"0.0000200052625935841-0.0022657676296363i"},"0.0000177326179723825-0.00196717273331325i","0.0000158376382661183-0.00170640457782864i","0.0000145297874376537-0.00148321675092133i","0.0000133745249566158-0.00128763446690156i","0.000012439266178437-0.00111162500051586i","0.0000119493553794103-0.000958268577227696i","0.0000116240767983288-0.000824689858662113i","0.0000115869352150173-0.00070604034311672i","0.0000115130889643806-0.000597491669876101i","0.0000124185366036036-0.000501991224408328i","0.0000146545554273901-0.000421287739349752i","0.0000194350078970176-0.000358990332787253i","0.0000270900711414851-0.000304354309699771i","0.0000375713710593226-0.000260352974595149i","0.0000465269359033077-0.000219939562778005i","0.0000583070613891512-0.000187603210858508i","0.0000615975572301139-0.000161576869866853i","0.0000633317263514952-0.000141888144898258i","0.0000654982487442511-0.000127869130744915i","0.0000669069636568982-0.000115339820329621i","0.0000667871071168159-0.000102743793708431i","0.0000654625583335683-0.0000907138940740566i","0.0000633691802913203-0.0000794089281958927i","0.0000604850114904931-0.0000694168104479727i","0.0000580655283794407-0.0000605654200809628i","0.0000580339826984557-0.0000501608316012413i","0.0000599708155065758-0.0000317044110645554i","0.000049190075961821-3.04044834673475E-06i","0.0000238041642366392+0.0000087848095456875i"]
["Yc",{"$f":"COMPLEX(0,2*PI()*B18*1000000*$B$9*0.000000000001)","v":"0.0000326725635973338i"},"0.0000375309200577934i","0.0000431117061319125i","0.0000495223459148435i","0.0000568862372879748i","0.0000653451271946677i","0.0000750618401155868i","0.0000862234122638251i","0.000099044691829687i","0.00011377247457595i","0.000130690254389336i","0.000150123680231174i","0.00017244682452765i","0.000198089383659374i","0.0002275449491519i","0.000261380508778671i","0.000300247360462348i","0.0003448936490553i","0.000396178767318748i","0.000455089898303799i","0.000522761017557342i","0.000600494720924695i","0.000689787298110601i","0.000792357534637497i","0.000910179796607599i","0.00104552203511468i","0.00120098944184939i","0.0013795745962212i","0.00158471506927499i","0.0018203595932152i"]
["Z",{"$f":"IMDIV(1,IMSUM(B23,B24))","v":"4.01139084810227+447.773033167979i"},"4.76192752518997+518.187132808573i","5.72418409948048+601.162524927347i","7.06808033025878+697.427079859939i","8.82853499013026+812.417924706153i","11.3615513561417+955.632136423159i","15.315819579761+1132.03052447052i","21.3102891696923+1353.82222501533i","31.4368625216846+1646.85816280732i","49.1766862419482+2066.14464372489i","89.9772484964869+2690.22355151661i","198.720109250987+3677.06490449173i","552.50447444114+5303.11711410184i","2252.60529912472+8836.18703913716i","15101.1884214509+13186.6407848676i","11984.9676155539-10674.8571796792i","3624.16378917497-7001.56787755048i","1647.02430955766-4901.60982431913i","922.199770116806-3702.83216720649i","588.148517072233-2938.31381578561i","392.488551939286-2390.00766122484i","264.800702030644-1973.50657414662i","180.251080932587-1649.54794594667i","123.692707590212-1391.63143815368i","85.1253136591217-1183.27187424057i","59.6454689096177-1011.75690291517i","43.7077121251904-866.735027708129i","32.9446523413251-740.445402920257i","19.6437025857487-631.630369204077i","7.11350117234372-546.611119133439i"]
["R",{"$f":"IMREAL(B25)","v":4.0113908481022698},4.7619275251899698,5.72418409948048,7.0680803302587796,8.8285349901302599,11.3615513561417,15.315819579761,21.3102891696923,31.436862521684599,49.176686241948197,89.977248496486894,198.72010925098701,552.50447444114002,2252.6052991247202,15101.188421450899,11984.9676155539,3624.1637891749701,1647.02430955766,922.19977011680601,588.14851707223295,392.48855193928603,264.800702030644,180.251080932587,123.692707590212,85.125313659121701,59.645468909617698,43.707712125190398,32.944652341325103,19.643702585748699,7.11350117234372]
["X",{"$f":"IMAGINARY(B25)","v":447.77303316797901},518.18713280857298,601.16252492734702,697.427079859939,812.41792470615303,955.63213642315895,1132.03052447052,1353.8222250153301,1646.85816280732,2066.1446437248901,2690.2235515166099,3677.06490449173,5303.1171141018403,8836.1870391371594,13186.640784867601,-10674.8571796792,-7001.5678775504803,-4901.60982431913,-3702.8321672064899,-2938.3138157856101,-2390.0076612248399,-1973.5065741466201,-1649.5479459466701,-1391.6314381536799,-1183.27187424057,-1011.75690291517,-866.735027708129,-740.44540292025704,-631.63036920407706,-546.61111913343905]
["|Z|",{"$f":"IMABS(B25)","v":447.7910009021935},518.20901242850346,601.18977674327414,697.46289469871931,812.46589307731824,955.69967302176542,1132.1341275053942,1353.9899354758716,1647.1581844893674,2066.7297925134753,2691.7278210067302,3682.4307181080135,5331.820732184955,9118.7955358292947,20048.276407943307,16049.673658751581,7883.9403799568272,5170.9252504881269,3815.9426718050418,2996.5991987869947,2422.0206200849793,1991.1925095268543,1659.367011289017,1397.1177278843315,1186.32990664248,1013.5134989520095,867.83637418319222,741.17794410224633,631.93575492462526,546.65740410172771]
[]
[]
[]
["Module","Version","Date"]
["CubicSpline",{"$f":"CubicSpline_version(\"v\")","v":"1.02"},{"$f":"CubicSpline_version(\"d\")","v":"2008-04-06"}]
[]
["Copyright: Owen Duffy 2010. All rights reserved."]

{"sheet":"28-053-31","index":1,"n_rows":35,"n_cols":31,"rows_kept":35,"cut":false,"hidden":false,"merged":[]}
["Calculate impedance of ferrite cored inductor"]
[]
["Reference:"]
["A method for estimating the impedance of a ferrite cored toroidal inductor at RF"]
[]
["Inputs:"]
["Al (nH for 1t)",708,"Neosid 28-053-31"]
["N",6]
["Cs (pF)",1.8]
[]
["Constants:"]
["Mix",{"$f":"Mix!B1","v":"F14"}]
["µ",{"$f":"Mix!B2","v":220}]
[]
["Calculated values:"]
["2*pi*N^2*Al",{"$f":"2*PI()*$B$8^2*$B$7*0.000000001","v":1.6014582710939328E-4}]
[]
["f (MHz)",1.04,{"$f":"B18*2^(1/5)","v":1.1946462891969165},{"$f":"C18*2^(1/5)","v":1.3722882272038102},1.5763452291708142,1.8107451716559386,2.0800000000000005,2.3892925783938335,2.7445764544076212,3.1526904583416298,3.6214903433118786,4.1600000000000028,4.7785851567876696,5.4891529088152451,6.3053809166832622,7.2429806866237607,8.3200000000000092,9.5571703135753427,10.978305817630494,12.610761833366528,14.485961373247525,16.640000000000022,19.114340627150689,21.956611635260991,25.221523666733063,28.971922746495057,33.280000000000058,38.228681254301392,43.913223270522003,50.443047333466147,57.943845492990143]
["µ''",{"$f":"csinterpolate(CSTableU2,'28-053-31'!B18*1000000)","v":1.9121445035223179},{"$f":"csinterpolate(CSTableU2,'28-053-31'!C18*1000000)","v":1.9574362303797543},{"$f":"csinterpolate(CSTableU2,'28-053-31'!D18*1000000)","v":2.0226374329293155},{"$f":"csinterpolate(CSTableU2,'28-053-31'!E18*1000000)","v":2.13811662060994},{"$f":"csinterpolate(CSTableU2,'28-053-31'!F18*1000000)","v":2.2733346634365299},{"$f":"csinterpolate(CSTableU2,'28-053-31'!G18*1000000)","v":2.4696466463547706},{"$f":"csinterpolate(CSTableU2,'28-053-31'!H18*1000000)","v":2.7791213259113334},{"$f":"csinterpolate(CSTableU2,'28-053-31'!I18*1000000)","v":3.1775320463613363},{"$f":"csinterpolate(CSTableU2,'28-053-31'!J18*1000000)","v":3.761712878740791},{"$f":"csinterpolate(CSTableU2,'28-053-31'!K18*1000000)","v":4.5431176223534013},{"$f":"csinterpolate(CSTableU2,'28-053-31'!L18*1000000)","v":6.0421780525816695},{"$f":"csinterpolate(CSTableU2,'28-053-31'!M18*1000000)","v":8.8077479841265731},{"$f":"csinterpolate(CSTableU2,'28-053-31'!N18*1000000)","v":13.980324367016085},{"$f":"csinterpolate(CSTableU2,'28-053-31'!O18*1000000)","v":23.484815673283332},{"$f":"csinterpolate(CSTableU2,'28-053-31'!P18*1000000)","v":38.259354026927227},{"$f":"csinterpolate(CSTableU2,'28-053-31'!Q18*1000000)","v":56.472371106696684},{"$f":"csinterpolate(CSTableU2,'28-053-31'!R18*1000000)","v":80.674965517493945},{"$f":"csinterpolate(CSTableU2,'28-053-31'!S18*1000000)","v":95.766108505532216},{"$f":"csinterpolate(CSTableU2,'28-053-31'!T18*1000000)","v":106.15987426408267},{"$f":"csinterpolate(CSTableU2,'28-053-31'!U18*1000000)","v":111.79845317976333},{"$f":"csinterpolate(CSTableU2,'28-053-31'!V18*1000000)","v":115.41576165229573},{"$f":"csinterpolate(CSTableU2,'28-053-31'!W18*1000000)","v":118.74905396107683},{"$f":"csinterpolate(CSTableU2,'28-053-31'!X18*1000000)","v":121.58877771325294},{"$f":"csinterpolate(CSTableU2,'28-053-31'!Y18*1000000)","v":124.23422193122427},{"$f":"csinterpolate(CSTableU2,'28-053-31'!Z18*1000000)","v":125.68862620524732},{"$f":"csinterpolate(CSTableU2,'28-053-31'!AA18*1000000)","v":126.48837881104612},{"$f":"csinterpolate(CSTableU2,'28-053-31'!AB18*1000000)","v":131.67124057216782},{"$f":"csinterpolate(CSTableU2,'28-053-31'!AC18*1000000)","v":151.46200540619219},{"$f":"csinterpolate(CSTableU2,'28-053-31'!AD18*1000000)","v":204.89884681421552},{"$f":"csinterpolate(CSTableU2,'28-053-31'!AE18*1000000)","v":325.6578397936072}]
["µ'",{"$f":"csinterpolate(CSTableU1,'28-053-31'!B18*1000000)","v":216.56677081846061},{"$f":"csinterpolate(CSTableU1,'28-053-31'!C18*1000000)","v":217.14871349507604},{"$f":"csinterpolate(CSTableU1,'28-053-31'!D18*1000000)","v":217.9262915874186},{"$f":"csinterpolate(CSTableU1,'28-053-31'!E18*1000000)","v":218.26130634875207},{"$f":"csinterpolate(CSTableU1,'28-053-31'!F18*1000000)","v":218.86564770997416},{"$f":"csinterpolate(CSTableU1,'28-053-31'!G18*1000000)","v":220.69798291534474},{"$f":"csinterpolate(CSTableU1,'28-053-31'!H18*1000000)","v":222.86931423204547},{"$f":"csinterpolate(CSTableU1,'28-053-31'!I18*1000000)","v":225.43540443442456},{"$f":"csinterpolate(CSTableU1,'28-053-31'!J18*1000000)","v":229.21687247983448},{"$f":"csinterpolate(CSTableU1,'28-053-31'!K18*1000000)","v":235.77294877348464},{"$f":"csinterpolate(CSTableU1,'28-053-31'!L18*1000000)","v":244.24136720170733},{"$f":"csinterpolate(CSTableU1,'28-053-31'!M18*1000000)","v":253.20428554657747},{"$f":"csinterpolate(CSTableU1,'28-053-31'!N18*1000000)","v":258.23510458974437},{"$f":"csinterpolate(CSTableU1,'28-053-31'!O18*1000000)","v":263.84961579974163},{"$f":"csinterpolate(CSTableU1,'28-053-31'!P18*1000000)","v":265.12039210045725},{"$f":"csinterpolate(CSTableU1,'28-053-31'!Q18*1000000)","v":266.95307501135346},{"$f":"csinterpolate(CSTableU1,'28-053-31'!R18*1000000)","v":259.57203478269071},{"$f":"csinterpolate(CSTableU1,'28-053-31'!S18*1000000)","v":251.20457283472493},{"$f":"csinterpolate(CSTableU1,'28-053-31'!T18*1000000)","v":237.84015515956833},{"$f":"csinterpolate(CSTableU1,'28-053-31'!U18*1000000)","v":218.25882830152995},{"$f":"csinterpolate(CSTableU1,'28-053-31'!V18*1000000)","v":198.96334379253616},{"$f":"csinterpolate(CSTableU1,'28-053-31'!W18*1000000)","v":182.68089201570345},{"$f":"csinterpolate(CSTableU1,'28-053-31'!X18*1000000)","v":168.49007711967346},{"$f":"csinterpolate(CSTableU1,'28-053-31'!Y18*1000000)","v":155.67988040016419},{"$f":"csinterpolate(CSTableU1,'28-053-31'!Z18*1000000)","v":144.24901848827639},{"$f":"csinterpolate(CSTableU1,'28-053-31'!AA18*1000000)","v":131.93407537755965},{"$f":"csinterpolate(CSTableU1,'28-053-31'!AB18*1000000)","v":113.8081278926735},{"$f":"csinterpolate(CSTableU1,'28-053-31'!AC18*1000000)","v":80.072509261330453},{"$f":"csinterpolate(CSTableU1,'28-053-31'!AD18*1000000)","v":12.66483834112536},{"$f":"csinterpolate(CSTableU1,'28-053-31'!AE18*1000000)","v":-120.18242149596054}]
["Rl",{"$f":"B19/$B$13*$B$16*B18*1000000","v":1.4475947345092377},1.7022365325121944,2.0204882259989567,2.4534413028530873,2.9964956796083144,3.7393068094760102,4.8335897495186479,6.3483113511939209,8.6329638497868775,11.976619673546317,18.296996106251488,30.637770273276679,55.861876813568259,107.79321615541825,201.719510796512,342.02062410541726,561.25608152822417,765.31479754109193,974.52877065570237,1178.8975458057337,1398.0135793249615,1652.2753566451845,1943.3532854373316,2280.8961372887679,2650.7345809303442,3064.2690161742721,3664.1495442583096,4841.6340942124252,7523.7399320163595,13736.047939331369]
["Xl",{"$f":"B20/$B$13*$B$16*B18*1000000","v":163.95252373917322},188.83806652931426,217.69472823920711,250.44999821288494,288.48808682933424,334.16014050878863,387.62569403155123,450.39172415928073,526.04253372522589,621.54739795352111,739.61463991709718,880.77165091077256,1031.8428401822659,1211.0462804603028,1397.8269408062683,1616.7810122535534,1805.843760600673,2007.501190144925,2183.3303366923351,2301.5058770212349,2410.0127437345868,2541.8235003913605,2692.9766964703763,2858.2272447835544,3042.1675621447089,3196.194805856358,3167.0545377923413,2559.5976351237991,465.04385671850389,-5069.2208244693065]
["Yl",{"$f":"IMDIV(1,COMPLEX(B21,B22))","v":"0.0000538489112820948-0.00609885121494265i"},"0.0000477315490125253-0.00529511219846289i","0.0000426307614769139-0.00459319283078664i","0.0000391103706346165-0.00399242983484227i","0.0000360007075368228-0.00346597370804752i","0.0000334832366095429-0.0029922024643123i","0.0000321645254439428-0.00257940726137244i","0.0000312889609582135-0.00221984844370809i","0.0000311889855734737-0.00190047511849533i","0.0000309902108670457-0.00160829060715591i","0.0000334274380399967-0.00135122849705674i","0.0000394462132849556-0.00113399591704208i","0.0000523139354516116-0.00096630766484365i","0.0000729193546297814-0.000819241844223642i","0.000101132260446757-0.00070080180979478i","0.000125238288273628-0.000592019522265798i","0.00015694729130279-0.000504978558041811i","0.000165804441654365-0.000434922485520841i","0.000170472369342319-0.000381925610367026i","0.000176304078452481-0.000344190107227574i","0.000180095968911205-0.000310464495188101i","0.000179773346593039-0.000276559300649496i","0.000176208009243217-0.000244177971231121i","0.000170573185508734-0.000213747973035766i","0.00016280976080227-0.000186851817106249i","0.000156297147894236-0.000163026199603524i","0.000156212235208449-0.000135019780824951i","0.00016142568029895-0.0000853399454608424i","0.000132406761672656-8.18408818755616E-06i","0.0000640745564886655+0.0000236463994232964i"]
["Yc",{"$f":"COMPLEX(0,2*PI()*B18*1000000*$B$9*0.000000000001)","v":"0.0000117621228950402i"},"0.0000135111312208056i","0.0000155202142074885i","0.0000178280445293437i","0.0000204790454236709i","0.0000235242457900804i","0.0000270222624416113i","0.000031040428414977i","0.0000356560890586873i","0.0000409580908473419i","0.0000470484915801608i","0.0000540445248832225i","0.000062080856829954i","0.0000713121781173747i","0.0000819161816946839i","0.0000940969831603216i","0.000108089049766445i","0.000124161713659908i","0.000142624356234749i","0.000163832363389368i","0.000188193966320643i","0.00021617809953289i","0.000248323427319816i","0.000285248712469499i","0.000327664726778736i","0.000376387932641287i","0.000432356199065781i","0.000496646854639633i","0.000570497424938998i","0.000655329453557472i"]
["Z",{"$f":"IMDIV(1,IMSUM(B23,B24))","v":"1.45319409529268+164.269280761213i"},"1.71095611501632+189.321063950873i","2.03421085219734+218.43267612038i","2.47549831215793+251.573172633423i","3.0322182841616+290.20240514171i","3.79879568249127+336.807403977606i","4.93646223494316+391.728215552773i","6.52960730226701+456.776331403447i","8.96615824509494+536.095105658515i","12.610505257825+637.777362098778i","19.6400596185408+766.26192621226i","33.7767513494191+924.733874425428i","63.7692629459368+1102.22785927328i","129.125706269144+1324.43501270612i","257.172262328033+1573.78285027655i","475.086617884761+1888.84995421984i","861.619950541837+2178.87110795085i","1336.44960141889+2504.85515071988i","1974.75302248258+2772.06726641227i","2771.55186040063+2835.27667005825i","3800.72462237067+2580.38318384547i","4998.65474058022+1678.91838764455i","5671.97167364671-133.438369858487i","4986.41671132902-2090.20240151692i","3513.73106007625-3038.99896380801i","2234.34764274075-3050.11506407398i","1384.72265230534-2635.69926609143i","826.841866898652-2106.76375669527i","396.750723523894-1684.945847062i","137.761043239692-1459.80599737334i"]
["R",{"$f":"IMREAL(B25)","v":1.4531940952926801},1.7109561150163199,2.0342108521973401,2.4754983121579301,3.0322182841615999,3.7987956824912699,4.9364622349431597,6.52960730226701,8.96615824509494,12.610505257825,19.6400596185408,33.776751349419101,63.769262945936802,129.12570626914399,257.17226232803301,475.08661788476098,861.61995054183706,1336.4496014188901,1974.75302248258,2771.5518604006302,3800.7246223706702,4998.6547405802203,5671.9716736467099,4986.4167113290196,3513.7310600762498,2234.34764274075,1384.72265230534,826.84186689865203,396.75072352389401,137.76104323969199]
["X",{"$f":"IMAGINARY(B25)","v":164.269280761213},189.321063950873,218.43267612037999,251.57317263342301,290.20240514171002,336.80740397760599,391.72821555277301,456.77633140344699,536.09510565851497,637.77736209877799,766.26192621226005,924.73387442542798,1102.22785927328,1324.43501270612,1573.7828502765501,1888.8499542198399,2178.8711079508498,2504.8551507198799,2772.0672664122699,2835.2766700582501,2580.3831838454698,1678.91838764455,-133.43836985848699,-2090.20240151692,-3038.9989638080101,-3050.1150640739802,-2635.6992660914302,-2106.7637566952699,-1684.945847062,-1459.80599737334]
["|Z|",{"$f":"IMABS(B25)","v":164.2757084138882},189.32879502684756,218.44214797264291,251.58535188031033,290.21824597663738,336.82882629426416,391.75931835701988,456.82299931364383,536.17007964328855,637.90202104126729,766.51358207427927,925.35053219933025,1104.0709998251136,1330.7146767438037,1594.6567130061258,1947.6810426888362,2343.0467866081294,2839.0838070089835,3403.5285262971543,3964.8825342835557,4593.896497589727,5273.0746408424839,5673.5410869404259,5406.7825643656524,4645.6238186674918,3780.9405301739625,2977.30875877569,2263.2103303451968,1731.0267600901534,1466.2918041787113]
[]
[]
[]
["Module","Version","Date"]
["CubicSpline",{"$f":"CubicSpline_version(\"v\")","v":"1.02"},{"$f":"CubicSpline_version(\"d\")","v":"2008-04-06"}]
[]
["Copyright: Owen Duffy 2010. All rights reserved."]

{"sheet":"28-042-31","index":2,"n_rows":35,"n_cols":31,"rows_kept":35,"cut":false,"hidden":false,"merged":[]}
["Calculate impedance of ferrite cored inductor"]
[]
["Reference:"]
["A method for estimating the impedance of a ferrite cored toroidal inductor at RF"]
[]
["Inputs:"]
["Al (nH for 1t)",226,"Neosid 28-042-31"]
["N",10]
["Cs (pF)",2.2000000000000002]
[]
["Constants:"]
["Mix",{"$f":"Mix!B1","v":"F14"}]
["µ",{"$f":"Mix!B2","v":220}]
[]
["Calculated values:"]
["2*pi*N^2*Al",{"$f":"2*PI()*$B$8^2*$B$7*0.000000001","v":1.4199998794225867E-4}]
[]
["f (MHz)",1.04,{"$f":"B18*2^(1/5)","v":1.1946462891969165},{"$f":"C18*2^(1/5)","v":1.3722882272038102},1.5763452291708142,1.8107451716559386,2.0800000000000005,2.3892925783938335,2.7445764544076212,3.1526904583416298,3.6214903433118786,4.1600000000000028,4.7785851567876696,5.4891529088152451,6.3053809166832622,7.2429806866237607,8.3200000000000092,9.5571703135753427,10.978305817630494,12.610761833366528,14.485961373247525,16.640000000000022,19.114340627150689,21.956611635260991,25.221523666733063,28.971922746495057,33.280000000000058,38.228681254301392,43.913223270522003,50.443047333466147,57.943845492990143]
["µ''",{"$f":"csinterpolate(CSTableU2,'28-042-31'!B18*1000000)","v":1.9121445035223179},{"$f":"csinterpolate(CSTableU2,'28-042-31'!C18*1000000)","v":1.9574362303797543},{"$f":"csinterpolate(CSTableU2,'28-042-31'!D18*1000000)","v":2.0226374329293155},{"$f":"csinterpolate(CSTableU2,'28-042-31'!E18*1000000)","v":2.13811662060994},{"$f":"csinterpolate(CSTableU2,'28-042-31'!F18*1000000)","v":2.2733346634365299},{"$f":"csinterpolate(CSTableU2,'28-042-31'!G18*1000000)","v":2.4696466463547706},{"$f":"csinterpolate(CSTableU2,'28-042-31'!H18*1000000)","v":2.7791213259113334},{"$f":"csinterpolate(CSTableU2,'28-042-31'!I18*1000000)","v":3.1775320463613363},{"$f":"csinterpolate(CSTableU2,'28-042-31'!J18*1000000)","v":3.761712878740791},{"$f":"csinterpolate(CSTableU2,'28-042-31'!K18*1000000)","v":4.5431176223534013},{"$f":"csinterpolate(CSTableU2,'28-042-31'!L18*1000000)","v":6.0421780525816695},{"$f":"csinterpolate(CSTableU2,'28-042-31'!M18*1000000)","v":8.8077479841265731},{"$f":"csinterpolate(CSTableU2,'28-042-31'!N18*1000000)","v":13.980324367016085},{"$f":"csinterpolate(CSTableU2,'28-042-31'!O18*1000000)","v":23.484815673283332},{"$f":"csinterpolate(CSTableU2,'28-042-31'!P18*1000000)","v":38.259354026927227},{"$f":"csinterpolate(CSTableU2,'28-042-31'!Q18*1000000)","v":56.472371106696684},{"$f":"csinterpolate(CSTableU2,'28-042-31'!R18*1000000)","v":80.674965517493945},{"$f":"csinterpolate(CSTableU2,'28-042-31'!S18*1000000)","v":95.766108505532216},{"$f":"csinterpolate(CSTableU2,'28-042-31'!T18*1000000)","v":106.15987426408267},{"$f":"csinterpolate(CSTableU2,'28-042-31'!U18*1000000)","v":111.79845317976333},{"$f":"csinterpolate(CSTableU2,'28-042-31'!V18*1000000)","v":115.41576165229573},{"$f":"csinterpolate(CSTableU2,'28-042-31'!W18*1000000)","v":118.74905396107683},{"$f":"csinterpolate(CSTableU2,'28-042-31'!X18*1000000)","v":121.58877771325294},{"$f":"csinterpolate(CSTableU2,'28-042-31'!Y18*1000000)","v":124.23422193122427},{"$f":"csinterpolate(CSTableU2,'28-042-31'!Z18*1000000)","v":125.68862620524732},{"$f":"csinterpolate(CSTableU2,'28-042-31'!AA18*1000000)","v":126.48837881104612},{"$f":"csinterpolate(CSTableU2,'28-042-31'!AB18*1000000)","v":131.67124057216782},{"$f":"csinterpolate(CSTableU2,'28-042-31'!AC18*1000000)","v":151.46200540619219},{"$f":"csinterpolate(CSTableU2,'28-042-31'!AD18*1000000)","v":204.89884681421552},{"$f":"csinterpolate(CSTableU2,'28-042-31'!AE18*1000000)","v":325.6578397936072}]
["µ'",{"$f":"csinterpolate(CSTableU1,'28-042-31'!B18*1000000)","v":216.56677081846061},{"$f":"csinterpolate(CSTableU1,'28-042-31'!C18*1000000)","v":217.14871349507604},{"$f":"csinterpolate(CSTableU1,'28-042-31'!D18*1000000)","v":217.9262915874186},{"$f":"csinterpolate(CSTableU1,'28-042-31'!E18*1000000)","v":218.26130634875207},{"$f":"csinterpolate(CSTableU1,'28-042-31'!F18*1000000)","v":218.86564770997416},{"$f":"csinterpolate(CSTableU1,'28-042-31'!G18*1000000)","v":220.69798291534474},{"$f":"csinterpolate(CSTableU1,'28-042-31'!H18*1000000)","v":222.86931423204547},{"$f":"csinterpolate(CSTableU1,'28-042-31'!I18*1000000)","v":225.43540443442456},{"$f":"csinterpolate(CSTableU1,'28-042-31'!J18*1000000)","v":229.21687247983448},{"$f":"csinterpolate(CSTableU1,'28-042-31'!K18*1000000)","v":235.77294877348464},{"$f":"csinterpolate(CSTableU1,'28-042-31'!L18*1000000)","v":244.24136720170733},{"$f":"csinterpolate(CSTableU1,'28-042-31'!M18*1000000)","v":253.20428554657747},{"$f":"csinterpolate(CSTableU1,'28-042-31'!N18*1000000)","v":258.23510458974437},{"$f":"csinterpolate(CSTableU1,'28-042-31'!O18*1000000)","v":263.84961579974163},{"$f":"csinterpolate(CSTableU1,'28-042-31'!P18*1000000)","v":265.12039210045725},{"$f":"csinterpolate(CSTableU1,'28-042-31'!Q18*1000000)","v":266.95307501135346},{"$f":"csinterpolate(CSTableU1,'28-042-31'!R18*1000000)","v":259.57203478269071},{"$f":"csinterpolate(CSTableU1,'28-042-31'!S18*1000000)","v":251.20457283472493},{"$f":"csinterpolate(CSTableU1,'28-042-31'!T18*1000000)","v":237.84015515956833},{"$f":"csinterpolate(CSTableU1,'28-042-31'!U18*1000000)","v":218.25882830152995},{"$f":"csinterpolate(CSTableU1,'28-042-31'!V18*1000000)","v":198.96334379253616},{"$f":"csinterpolate(CSTableU1,'28-042-31'!W18*1000000)","v":182.68089201570345},{"$f":"csinterpolate(CSTableU1,'28-042-31'!X18*1000000)","v":168.49007711967346},{"$f":"csinterpolate(CSTableU1,'28-042-31'!Y18*1000000)","v":155.67988040016419},{"$f":"csinterpolate(CSTableU1,'28-042-31'!Z18*1000000)","v":144.24901848827639},{"$f":"csinterpolate(CSTableU1,'28-042-31'!AA18*1000000)","v":131.93407537755965},{"$f":"csinterpolate(CSTableU1,'28-042-31'!AB18*1000000)","v":113.8081278926735},{"$f":"csinterpolate(CSTableU1,'28-042-31'!AC18*1000000)","v":80.072509261330453},{"$f":"csinterpolate(CSTableU1,'28-042-31'!AD18*1000000)","v":12.66483834112536},{"$f":"csinterpolate(CSTableU1,'28-042-31'!AE18*1000000)","v":-120.18242149596054}]
["Rl",{"$f":"B19/$B$13*$B$16*B18*1000000","v":1.2835703468263018},1.5093591350743725,1.7915502945533754,2.175446227419954,2.6569680774932487,3.3156125978561612,4.2859042819805966,5.6289954699067266,7.6547780526201921,10.619570175068535,16.223795982473465,27.166258952293358,49.532266791691889,95.579358329898497,178.86303138736551,303.26687479529318,497.66115201419763,678.59833743050376,864.10664692478338,1045.3187592282482,1239.6071442539289,1465.0589712877111,1723.1553770748471,2022.4518480353956,2350.3845546541825,2717.0621376937606,3248.9712688417221,4293.0371362680808,6671.2383264112432,12179.640749721008]
["Xl",{"$f":"B20/$B$13*$B$16*B18*1000000","v":145.37535453959964},167.44116068591117,193.02812532195867,222.0719538453861,255.80001421621765,296.29704863067423,343.70451526651993,399.35863802572771,466.43758875510474,551.12096648421141,655.81021900998121,780.97297985653915,914.92656105301387,1073.8247778720515,1239.4416534142213,1433.5864280026019,1601.2268122086953,1780.0347966602058,1935.9410549767258,2040.726334772439,2136.9384811833675,2253.8139951681092,2387.8402911264325,2534.3665933815269,2697.4649601565616,2834.0396505160747,2808.2012144580563,2269.5741742701621,412.35056347450524,-4494.8364184324528]
["Yl",{"$f":"IMDIV(1,COMPLEX(B21,B22))","v":"0.0000607301349892928-0.00687820883922379i"},"0.000053831049612002-0.00597176193426646i","0.0000480784446249371-0.00518014596774732i","0.0000441081914484559-0.00450261290400265i","0.0000406011519335636-0.00390888220666881i","0.0000377619794116828-0.00337456886771646i","0.0000362747532971333-0.00290902355211773i","0.0000352873025178295-0.00250351757226689i","0.0000351745515175529-0.0021433322929296i","0.0000349503758663389-0.0018138102210261i","0.0000376990504762583-0.00152389875809656i","0.0000444869506286262-0.00127890654573312i","0.0000589990082650745-0.0010897898124573i","0.0000822375447258349-0.000923930802016468i","0.000114055710365795-0.000790355598586256i","0.000141242189890187-0.000667672282456223i","0.00017700321065157-0.000569508561388036i","0.00018699219508347-0.000490500190750228i","0.000192256626097213-0.00043073097155021i","0.000198833555380391-0.000388173338629043i","0.000203110002460567-0.000350138011210367i","0.000202746153007229-0.000311900152874086i","0.000198725209716422-0.000275380890740655i","0.000192370325320646-0.000241062315784761i","0.000183614831120719-0.000210729164354162i","0.000176269986970279-0.000183858928119231i","0.000176174223495263-0.000152273636002937i","0.000182053882276976-0.0000962453331816793i","0.000149326705376666-9.22991326214298E-06i","0.0000722624909638544+0.0000266681163053532i"]
["Yc",{"$f":"COMPLEX(0,2*PI()*B18*1000000*$B$9*0.000000000001)","v":"0.0000143759279828269i"},"0.0000165136048254291i","0.0000189691506980415i","0.0000217898322025311i","0.0000250299444067089i","0.0000287518559656538i","0.0000330272096508582i","0.000037938301396083i","0.0000435796644050623i","0.0000500598888134179i","0.0000575037119313076i","0.0000660544193017165i","0.0000758766027921661i","0.0000871593288101246i","0.000100119777626836i","0.000115007423862615i","0.000132108838603433i","0.000151753205584332i","0.000174318657620249i","0.000200239555253672i","0.000230014847725231i","0.000264217677206866i","0.000303506411168664i","0.000348637315240499i","0.000400479110507344i","0.000460029695450461i","0.000528435354413732i","0.000607012822337329i","0.000697274630480998i","0.000800958221014688i"]
["Z",{"$f":"IMDIV(1,IMSUM(B23,B24))","v":"1.28895229392826+145.679787763425i"},"1.5177408103684+167.905390859325i","1.80474251271722+193.737449080209i","2.19665360862876+223.15166065693i","2.69132096432361+257.448188486514i","3.37283475009756+298.842594072529i","4.38489021116946+347.650281895611i","5.80352115586953+405.501141741912i","7.97573005236674+476.112968590433i","11.2307079017031+566.751123603504i","17.5202983132839+681.494051690155i","30.2018137766956+823.395030307601i","57.1972447388299+982.949437668412i","116.327323683328+1183.63682107925i","233.035843953335+1410.27298456369i","434.073400926305+1698.48056681009i","794.988909268351+1964.52893284129i","1248.98269691382+2262.60311514642i","1871.84150846342+2496.4716287727i","2656.28888803363+2510.67491858243i","3647.59620820552+2157.25858075897i","4673.7649643591+1099.19069181753i","4933.25779879019-698.202523950047i","3959.97085011921-2214.4468557521i","2633.62427084514-2721.62145361791i","1642.14352776237-2572.82618513277i","1021.09269522071-2180.20534031905i","619.173936456334-1737.14459103528i","301.241680579401-1388.01526763728i","104.699838940314-1199.13309193166i"]
["R",{"$f":"IMREAL(B25)","v":1.2889522939282601},1.5177408103684,1.8047425127172201,2.1966536086287598,2.69132096432361,3.3728347500975602,4.3848902111694601,5.8035211558695297,7.9757300523667398,11.2307079017031,17.520298313283899,30.201813776695602,57.197244738829902,116.327323683328,233.03584395333499,434.073400926305,794.98890926835099,1248.9826969138201,1871.84150846342,2656.28888803363,3647.5962082055198,4673.7649643591003,4933.2577987901896,3959.9708501192099,2633.62427084514,1642.14352776237,1021.09269522071,619.17393645633399,301.24168057940102,104.699838940314]
["X",{"$f":"IMAGINARY(B25)","v":145.679787763425},167.905390859325,193.73744908020899,223.15166065693001,257.44818848651403,298.84259407252898,347.65028189561099,405.50114174191202,476.11296859043301,566.75112360350397,681.49405169015495,823.39503030760102,982.94943766841197,1183.63682107925,1410.27298456369,1698.4805668100901,1964.52893284129,2262.6031151464199,2496.4716287727001,2510.6749185824301,2157.2585807589699,1099.19069181753,-698.20252395004695,-2214.4468557521,-2721.62145361791,-2572.8261851327702,-2180.2053403190498,-1737.14459103528,-1388.01526763728,-1199.1330919316599]
["|Z|",{"$f":"IMABS(B25)","v":145.68548987738134},167.91225034758526,193.74585485022328,223.16247207140796,257.46225541527565,298.86162692164044,347.67793396225449,405.54266953281353,476.17976766118795,566.86238621539144,681.71922617896746,823.94873960135237,984.61216822582537,1189.3393840489425,1429.39693421989,1753.0704358990411,2119.2879214090331,2584.4401006524413,3120.28223500273,3655.0457183857261,4237.7733165394175,4801.2809873042133,4982.4210253424426,4537.0854092406307,3787.2417584276104,3052.2237704134154,2407.4728696682746,1844.1929654322953,1420.3284596573048,1203.6952390201227]
[]
[]
[]
["Module","Version","Date"]
["CubicSpline",{"$f":"CubicSpline_version(\"v\")","v":"1.02"},{"$f":"CubicSpline_version(\"d\")","v":"2008-04-06"}]
[]
["Copyright: Owen Duffy 2010. All rights reserved."]

{"sheet":"42-001-31","index":3,"n_rows":35,"n_cols":31,"rows_kept":35,"cut":false,"hidden":false,"merged":[]}
["Calculate impedance of ferrite cored inductor"]
[]
["Reference:"]
["A method for estimating the impedance of a ferrite cored toroidal inductor at RF"]
[]
["Inputs:"]
["Al (nH for 1t)",600,"Neosid 42-001-31"]
["N",6]
["Cs (pF)",1.8]
[]
["Constants:"]
["Mix",{"$f":"Mix!B1","v":"F14"}]
["µ",{"$f":"Mix!B2","v":220}]
[]
["Calculated values:"]
["2*pi*N^2*Al",{"$f":"2*PI()*$B$8^2*$B$7*0.000000001","v":1.3571680263507909E-4}]
[]
["f (MHz)",1.04,{"$f":"B18*2^(1/5)","v":1.1946462891969165},{"$f":"C18*2^(1/5)","v":1.3722882272038102},1.5763452291708142,1.8107451716559386,2.0800000000000005,2.3892925783938335,2.7445764544076212,3.1526904583416298,3.6214903433118786,4.1600000000000028,4.7785851567876696,5.4891529088152451,6.3053809166832622,7.2429806866237607,8.3200000000000092,9.5571703135753427,10.978305817630494,12.610761833366528,14.485961373247525,16.640000000000022,19.114340627150689,21.956611635260991,25.221523666733063,28.971922746495057,33.280000000000058,38.228681254301392,43.913223270522003,50.443047333466147,57.943845492990143]
["µ''",{"$f":"csinterpolate(CSTableU2,'42-001-31'!B18*1000000)","v":1.9121445035223179},{"$f":"csinterpolate(CSTableU2,'42-001-31'!C18*1000000)","v":1.9574362303797543},{"$f":"csinterpolate(CSTableU2,'42-001-31'!D18*1000000)","v":2.0226374329293155},{"$f":"csinterpolate(CSTableU2,'42-001-31'!E18*1000000)","v":2.13811662060994},{"$f":"csinterpolate(CSTableU2,'42-001-31'!F18*1000000)","v":2.2733346634365299},{"$f":"csinterpolate(CSTableU2,'42-001-31'!G18*1000000)","v":2.4696466463547706},{"$f":"csinterpolate(CSTableU2,'42-001-31'!H18*1000000)","v":2.7791213259113334},{"$f":"csinterpolate(CSTableU2,'42-001-31'!I18*1000000)","v":3.1775320463613363},{"$f":"csinterpolate(CSTableU2,'42-001-31'!J18*1000000)","v":3.761712878740791},{"$f":"csinterpolate(CSTableU2,'42-001-31'!K18*1000000)","v":4.5431176223534013},{"$f":"csinterpolate(CSTableU2,'42-001-31'!L18*1000000)","v":6.0421780525816695},{"$f":"csinterpolate(CSTableU2,'42-001-31'!M18*1000000)","v":8.8077479841265731},{"$f":"csinterpolate(CSTableU2,'42-001-31'!N18*1000000)","v":13.980324367016085},{"$f":"csinterpolate(CSTableU2,'42-001-31'!O18*1000000)","v":23.484815673283332},{"$f":"csinterpolate(CSTableU2,'42-001-31'!P18*1000000)","v":38.259354026927227},{"$f":"csinterpolate(CSTableU2,'42-001-31'!Q18*1000000)","v":56.472371106696684},{"$f":"csinterpolate(CSTableU2,'42-001-31'!R18*1000000)","v":80.674965517493945},{"$f":"csinterpolate(CSTableU2,'42-001-31'!S18*1000000)","v":95.766108505532216},{"$f":"csinterpolate(CSTableU2,'42-001-31'!T18*1000000)","v":106.15987426408267},{"$f":"csinterpolate(CSTableU2,'42-001-31'!U18*1000000)","v":111.79845317976333},{"$f":"csinterpolate(CSTableU2,'42-001-31'!V18*1000000)","v":115.41576165229573},{"$f":"csinterpolate(CSTableU2,'42-001-31'!W18*1000000)","v":118.74905396107683},{"$f":"csinterpolate(CSTableU2,'42-001-31'!X18*1000000)","v":121.58877771325294},{"$f":"csinterpolate(CSTableU2,'42-001-31'!Y18*1000000)","v":124.23422193122427},{"$f":"csinterpolate(CSTableU2,'42-001-31'!Z18*1000000)","v":125.68862620524732},{"$f":"csinterpolate(CSTableU2,'42-001-31'!AA18*1000000)","v":126.48837881104612},{"$f":"csinterpolate(CSTableU2,'42-001-31'!AB18*1000000)","v":131.67124057216782},{"$f":"csinterpolate(CSTableU2,'42-001-31'!AC18*1000000)","v":151.46200540619219},{"$f":"csinterpolate(CSTableU2,'42-001-31'!AD18*1000000)","v":204.89884681421552},{"$f":"csinterpolate(CSTableU2,'42-001-31'!AE18*1000000)","v":325.6578397936072}]
["µ'",{"$f":"csinterpolate(CSTableU1,'42-001-31'!B18*1000000)","v":216.56677081846061},{"$f":"csinterpolate(CSTableU1,'42-001-31'!C18*1000000)","v":217.14871349507604},{"$f":"csinterpolate(CSTableU1,'42-001-31'!D18*1000000)","v":217.9262915874186},{"$f":"csinterpolate(CSTableU1,'42-001-31'!E18*1000000)","v":218.26130634875207},{"$f":"csinterpolate(CSTableU1,'42-001-31'!F18*1000000)","v":218.86564770997416},{"$f":"csinterpolate(CSTableU1,'42-001-31'!G18*1000000)","v":220.69798291534474},{"$f":"csinterpolate(CSTableU1,'42-001-31'!H18*1000000)","v":222.86931423204547},{"$f":"csinterpolate(CSTableU1,'42-001-31'!I18*1000000)","v":225.43540443442456},{"$f":"csinterpolate(CSTableU1,'42-001-31'!J18*1000000)","v":229.21687247983448},{"$f":"csinterpolate(CSTableU1,'42-001-31'!K18*1000000)","v":235.77294877348464},{"$f":"csinterpolate(CSTableU1,'42-001-31'!L18*1000000)","v":244.24136720170733},{"$f":"csinterpolate(CSTableU1,'42-001-31'!M18*1000000)","v":253.20428554657747},{"$f":"csinterpolate(CSTableU1,'42-001-31'!N18*1000000)","v":258.23510458974437},{"$f":"csinterpolate(CSTableU1,'42-001-31'!O18*1000000)","v":263.84961579974163},{"$f":"csinterpolate(CSTableU1,'42-001-31'!P18*1000000)","v":265.12039210045725},{"$f":"csinterpolate(CSTableU1,'42-001-31'!Q18*1000000)","v":266.95307501135346},{"$f":"csinterpolate(CSTableU1,'42-001-31'!R18*1000000)","v":259.57203478269071},{"$f":"csinterpolate(CSTableU1,'42-001-31'!S18*1000000)","v":251.20457283472493},{"$f":"csinterpolate(CSTableU1,'42-001-31'!T18*1000000)","v":237.84015515956833},{"$f":"csinterpolate(CSTableU1,'42-001-31'!U18*1000000)","v":218.25882830152995},{"$f":"csinterpolate(CSTableU1,'42-001-31'!V18*1000000)","v":198.96334379253616},{"$f":"csinterpolate(CSTableU1,'42-001-31'!W18*1000000)","v":182.68089201570345},{"$f":"csinterpolate(CSTableU1,'42-001-31'!X18*1000000)","v":168.49007711967346},{"$f":"csinterpolate(CSTableU1,'42-001-31'!Y18*1000000)","v":155.67988040016419},{"$f":"csinterpolate(CSTableU1,'42-001-31'!Z18*1000000)","v":144.24901848827639},{"$f":"csinterpolate(CSTableU1,'42-001-31'!AA18*1000000)","v":131.93407537755965},{"$f":"csinterpolate(CSTableU1,'42-001-31'!AB18*1000000)","v":113.8081278926735},{"$f":"csinterpolate(CSTableU1,'42-001-31'!AC18*1000000)","v":80.072509261330453},{"$f":"csinterpolate(CSTableU1,'42-001-31'!AD18*1000000)","v":12.66483834112536},{"$f":"csinterpolate(CSTableU1,'42-001-31'!AE18*1000000)","v":-120.18242149596054}]
["Rl",{"$f":"B19/$B$13*$B$16*B18*1000000","v":1.2267751987366424},1.4425733326374532,1.7122781576262349,2.0791875447907522,2.5394031183121317,3.1689040758271276,4.0962624995920747,5.3799248738931542,7.3160710591414224,10.149677689446035,15.50592890360296,25.96421209599719,47.34057357082056,91.350183182557871,170.94873796314579,289.84798653001474,475.64074705781718,648.57186232295953,825.87183953873114,999.0657167845203,1184.7572706143744,1400.2333530891399,1646.9095639299424,1932.9628282108204,2246.3852380765638,2596.8381493002312,3105.2114781850091,4103.0797408579883,6376.0507898443739,11640.718592653706]
["Xl",{"$f":"B20/$B$13*$B$16*B18*1000000","v":138.94281672811292},160.03225977060538,184.4870578298366,212.2457611973602,244.48142951638496,283.18655975321076,328.49635087419603,381.68790182989903,445.79875739425944,526.73508301145864,626.79206772635371,746.41665331421416,874.44308490022581,1026.3104071697483,1184.5991023781937,1370.1534002148762,1530.3760683056555,1701.2721950380726,1850.2799463494375,1950.4287093400301,2042.3836811310061,2154.0877121960689,2282.1836410765909,2422.2264786301321,2578.1081035124657,2708.6396659799652,2683.9445235528319,2169.1505382405085,394.10496332076605,-4295.9498512451764]
["Yl",{"$f":"IMDIV(1,COMPLEX(B21,B22))","v":"0.0000635417153128713-0.00719664443363231i"},"0.00005632322783478-0.00624823239418621i","0.0000503042985427579-0.00541996754032821i","0.0000461502373488474-0.00471106720511388i","0.0000424808348934509-0.00408984897549608i","0.0000395102191992607-0.00353079890788851i","0.0000379541400238524-0.00304370056841948i","0.0000369209739306919-0.00261942116357554i","0.000036803002976699-0.00224256063982449i","0.0000365684488231137-0.00189778291644397i","0.0000394443768871961-0.00159444962652695i","0.0000465465316762477-0.00133811518210965i","0.0000617304438329021-0.00114024304451551i","0.0000860448384631416-0.000966705376183894i","0.000119336067327174-0.000826946135557844i","0.00014778118016288-0.000698583036273638i","0.000185197803737291-0.000595874698489334i","0.00019564924115215-0.000513208532914592i","0.000201157395823936-0.00045067222023309i","0.000208038812573928-0.000406144326528536i","0.000212513243315222-0.000366348104321959i","0.000212132548979786-0.000326339974766405i","0.000207925450906996-0.000288130006052723i","0.000201276358900306-0.000252222608182204i","0.000192115517746678-0.000220485144185373i","0.000184430634515198-0.000192370915532158i","0.00018433043754597-0.000159323341373443i","0.000190482302752761-0.000100701135643794i","0.000156239978773734-9.65722406131628E-06i","0.0000756079766566254+0.0000279027513194899i"]
["Yc",{"$f":"COMPLEX(0,2*PI()*B18*1000000*$B$9*0.000000000001)","v":"0.0000117621228950402i"},"0.0000135111312208056i","0.0000155202142074885i","0.0000178280445293437i","0.0000204790454236709i","0.0000235242457900804i","0.0000270222624416113i","0.000031040428414977i","0.0000356560890586873i","0.0000409580908473419i","0.0000470484915801608i","0.0000540445248832225i","0.000062080856829954i","0.0000713121781173747i","0.0000819161816946839i","0.0000940969831603216i","0.000108089049766445i","0.000124161713659908i","0.000142624356234749i","0.000163832363389368i","0.000188193966320643i","0.00021617809953289i","0.000248323427319816i","0.000285248712469499i","0.000327664726778736i","0.000376387932641287i","0.000432356199065781i","0.000496646854639633i","0.000570497424938998i","0.000655329453557472i"]
["Z",{"$f":"IMDIV(1,IMSUM(B23,B24))","v":"1.23079479477806+139.170239670208i"},"1.44883193621785+160.37900572209i","1.72212589040395+185.016766623353i","2.09501229196964+213.051856185599i","2.56502365804292+245.711511323743i","3.211550629168+285.085488666131i","4.16996505101143+331.437969564493i","5.50970664633946+386.263335483575i","7.55432032652879+452.997379510423i","10.6022065146624+538.344963926505i","16.4625525669049+645.82519832932i","28.1928637143813+777.751375561546i","52.9309692248103+924.473663760075i","106.342061281414+1106.60860128803i","209.614997967733+1308.65257891203i","381.624219858916+1561.00065096725i","680.291364764629+1791.79427609743i","1031.70909706843+2051.54459197955i","1486.1161971793+2275.80456745974i","2039.69148694228+2375.71846466678i","2763.47334617457+2316.67544194917i","3712.77442534204+1928.06900676845i","4639.37495800412+888.191627007093i","4838.03718502145-793.841469963549i","3969.67047708502-2214.64476038935i","2717.13316321206-2711.03952495144i","1698.51213390619-2515.86025574243i","986.665991391241-2050.93160742191i","460.949260299606-1654.62692564261i","160.009156701207-1445.92427634935i"]
["R",{"$f":"IMREAL(B25)","v":1.23079479477806},1.4488319362178499,1.72212589040395,2.0950122919696401,2.5650236580429202,3.2115506291679998,4.1699650510114301,5.5097066463394597,7.5543203265287904,10.6022065146624,16.4625525669049,28.1928637143813,52.930969224810298,106.342061281414,209.61499796773299,381.62421985891598,680.29136476462895,1031.7090970684301,1486.1161971792999,2039.6914869422801,2763.47334617457,3712.7744253420401,4639.3749580041203,4838.0371850214497,3969.6704770850201,2717.13316321206,1698.51213390619,986.66599139124105,460.94926029960601,160.00915670120699]
["X",{"$f":"IMAGINARY(B25)","v":139.17023967020799},160.37900572209,185.01676662335299,213.05185618559901,245.711511323743,285.08548866613103,331.43796956449302,386.26333548357502,452.997379510423,538.34496392650499,645.82519832931996,777.75137556154596,924.47366376007506,1106.6086012880301,1308.6525789120301,1561.0006509672501,1791.7942760974299,2051.5445919795502,2275.8045674597402,2375.7184646667802,2316.6754419491699,1928.06900676845,888.19162700709296,-793.841469963549,-2214.6447603893498,-2711.0395249514399,-2515.8602557424301,-2050.93160742191,-1654.6269256426101,-1445.9242763493501]
["|Z|",{"$f":"IMABS(B25)","v":139.17568201984852},160.38554981788596,185.02478117631341,213.06215642537896,245.72489931499453,285.10357750377392,331.46420059722959,386.30262904389554,453.06036418881973,538.44935413463861,646.03498545676575,778.26219216424408,925.98771184560223,1111.7064497619101,1325.333927606971,1606.972332525705,1916.591523728735,2296.3577408266106,2718.0558825729245,3131.19459396306,3606.074047818161,4183.5563852223859,4723.630422380782,4902.7327158518601,4545.6501307690196,3838.3001357991411,3035.5388805697949,2275.9240402285577,1717.6333961681898,1454.7508182381694]
[]
[]
[]
["Module","Version","Date"]
["CubicSpline",{"$f":"CubicSpline_version(\"v\")","v":"1.02"},{"$f":"CubicSpline_version(\"d\")","v":"2008-04-06"}]
[]
["Copyright: Owen Duffy 2010. All rights reserved."]

{"sheet":"Mix","index":4,"n_rows":47,"n_cols":16,"rows_kept":47,"cut":false,"hidden":false,"merged":[[4,4,4,6],[4,13,4,15]]}
["Mix","F14"]
["µ",220]
[]
[]
["# #61 mix u'",null,null,null,"CSTable",null,null,null,null,"# #61 mix u''",null,null,null,"CSTable"]
[498531,218.845,null,null,{"$f":"cstable(A6:A36,B6:B36)","v":498531},218.845,0,null,null,498531,1.6836899999999999,null,null,{"$f":"cstable(J6:J36,K6:K36)","v":498531},1.6836899999999999,0]
[502013,218.81800000000001,null,null,502013,218.81800000000001,1.8453507127185734E-11,null,null,502013,1.6856100000000001,null,null,502013,1.6856100000000001,-1.2540400656435572E-12]
[783777,217.10400000000001,null,null,783777,217.10400000000001,-1.7788738333750537E-12,null,null,783777,1.8134399999999999,null,null,783777,1.8134399999999999,4.5797786904633979E-13]
[900853,216.571,null,null,900853,216.571,4.6145053496661823E-11,null,null,900853,1.8643400000000001,null,null,900853,1.8643400000000001,-1.0717803500057474E-12]
[1396710,218.001,null,null,1396710,218.001,-2.3677034047987985E-11,null,null,1396710,2.0341800000000001,null,null,1396710,2.0341800000000001,1.4253858348276057E-12]
[1807010,218.845,null,null,1807010,218.845,3.6723581191235158E-11,null,null,1807010,2.2716099999999999,null,null,1807010,2.2716099999999999,-1.5473085540357071E-12]
[1964440,219.94399999999999,null,null,1964440,219.94399999999999,-1.5501344878722959E-11,null,null,1964440,2.3544100000000001,null,null,1964440,2.3544100000000001,5.4355241052777708E-12]
[2150500,221.142,null,null,2150500,221.142,8.6807336313695593E-12,null,null,2150500,2.54969,null,null,2150500,2.54969,-1.8750315087876607E-12]
[2705830,225.18899999999999,null,null,2705830,225.18899999999999,-8.814190881076391E-12,null,null,2705830,3.12127,null,null,2705830,3.12127,2.9661164415074815E-12]
[2801660,225.809,null,null,2801660,225.809,1.8278350089400829E-11,null,null,2801660,3.2635399999999999,null,null,2801660,3.2635399999999999,-9.3388121221359755E-13]
[3599540,235.441,null,null,3599540,235.441,2.2394075891406977E-12,null,null,3599540,4.4984299999999999,null,null,3599540,4.4984299999999999,2.2103946805523397E-12]
[4224520,245.29599999999999,null,null,4224520,245.29599999999999,1.9559441352517181E-12,null,null,4224520,6.2832699999999999,null,null,4224520,6.2832699999999999,3.6860210886378595E-12]
[4788420,253.29599999999999,null,null,4788420,253.29599999999999,-2.7557905295391472E-11,null,null,4788420,8.8563399999999994,null,null,4788420,8.8563399999999994,1.7201819362180526E-13]
[4958020,254.589,null,null,4958020,254.589,-3.1875436400151853E-13,null,null,4958020,9.7423099999999998,null,null,4958020,9.7423099999999998,9.6370340154008433E-12]
[5818870,260.625,null,null,5818870,260.625,1.9258455306857198E-12,null,null,5818870,17.483599999999999,null,null,5818870,17.483599999999999,3.1622881221433996E-12]
[6369990,264.10000000000002,null,null,6369990,264.10000000000002,-1.7059929750775514E-11,null,null,6369990,24.382300000000001,null,null,6369990,24.382300000000001,7.1196450207179346E-12]
[6688060,264.596,null,null,6688060,264.596,3.7617055882285292E-13,null,null,6688060,29.164400000000001,null,null,6688060,29.164400000000001,3.0917496323563961E-12]
[7740790,266.08800000000002,null,null,7740790,266.08800000000002,3.364696161777199E-12,null,null,7740790,46.658900000000003,null,null,7740790,46.658900000000003,-1.1778934654540057E-12]
[8356780,266.87299999999999,null,null,8356780,266.87299999999999,-2.0264703128801021E-11,null,null,8356780,57.125500000000002,null,null,8356780,57.125500000000002,4.7340080415867997E-12]
[8959210,263.18200000000002,null,null,8959210,263.18200000000002,4.8169488343597446E-12,null,null,8959210,68.664900000000003,null,null,8959210,68.664900000000003,3.6004718233167878E-12]
[10155100,256.66899999999998,null,null,10155100,256.66899999999998,-8.6342951373080124E-13,null,null,10155100,89.148399999999995,null,null,10155100,89.148399999999995,-2.3380547851959083E-11]
[10297500,255.95500000000001,null,null,10297500,255.95500000000001,-6.0172330821936315E-12,null,null,10297500,90.218699999999998,null,null,10297500,90.218699999999998,4.2244602905503054E-12]
[12340500,239.71799999999999,null,null,12340500,239.71799999999999,4.3179579738154192E-12,null,null,12340500,105.36,null,null,12340500,105.36,-7.7160791612757451E-12]
[12600900,237.91200000000001,null,null,12600900,237.91200000000001,-5.8598640239437981E-12,null,null,12600900,106.133,null,null,12600900,106.133,9.9492935757758501E-13]
[15206300,210.833,null,null,15206300,210.833,4.4962084644860015E-12,null,null,15206300,113.35,null,null,15206300,113.35,-1.8746577408218034E-12]
[15312500,209.892,null,null,15312500,209.892,7.5416432355855383E-13,null,null,15312500,113.51,null,null,15312500,113.51,-5.7380299441830385E-14]
[18350500,187.11500000000001,null,null,18350500,187.11500000000001,9.7421244405864837E-13,null,null,18350500,117.752,null,null,18350500,117.752,-3.3492070830289959E-14]
[19673300,179.66900000000001,null,null,19673300,179.66900000000001,3.1943191783769989E-13,null,null,19673300,119.426,null,null,19673300,119.426,-2.4075431774001083E-13]
[23576400,161.66499999999999,null,null,23576400,161.66499999999999,3.7662987999848443E-13,null,null,23576400,122.88800000000001,null,null,23576400,122.88800000000001,7.4186751677433629E-14]
[25630300,154.31299999999999,null,null,25630300,154.31299999999999,2.2655896284393412E-13,null,null,25630300,124.52,null,null,25630300,124.52,-2.4274839218467548E-13]
[30080500,141.143,null,null,30080500,141.143,0,null,null,30080500,125.827,null,null,30080500,125.827,0]
[]
[]
[]
[]
[2]
[2]
[3]
[4]
[5]
[]
[{"$f":"sumthem(A41:C45)","v":{"$error":"#NAME?"}}]