{"text_format":"1","workbook":"xlsx","n_sheets":2,"sheets":["Mix","LO1238"],"not_rendered":{"charts":3,"images":0,"macros":1,"external_links":0,"defined_names":2,"comments":0,"pivot_tables":0},"unopened":[],"bounds":{"document_bytes":16777216,"sheet_cells":100000,"rows_first":2000,"rows_last":500,"rows_between":2000,"halvings":0,"cell_chars":16384,"cell_head_chars":4096},"cells_cut":0,"cells_raw":0,"read":"whole","date_system":"1900"}

{"sheet":"Mix","index":0,"n_rows":71,"n_cols":17,"rows_kept":71,"cut":false,"hidden":false,"merged":[[4,4,4,6],[4,13,4,15]]}
["Mix","L15"]
["µi",1100]
[]
[]
["# L15 mix u'",null,null,null,"CSTable",null,null,null,null,"# l15 mix u''",null,null,null,"CSTable"]
[1000000,1276.546112,null,null,{"$f":"cstable(A6:A42,B6:B42)","v":1000000},1276.546112,0,null,null,1000000,44.589843000000002,null,null,{"$f":"cstable(Mix!J6:J42,Mix!K6:K42)","v":1000000},44.589843000000002,0]
[1100000,1243.130737,null,null,1100000,1243.130737,7.0112674870976806E-10,null,null,1100000,120.107957,null,null,1100000,120.107957,-1.6894433906321069E-9]
[1210000,1212.3987810000001,null,null,1210000,1212.3987810000001,3.1055233137271384E-10,null,null,1210000,188.40241499999999,null,null,1210000,188.40241499999999,-8.7607601262782537E-10]
[1331000,1183.654659,null,null,1331000,1183.654659,2.5091757026666238E-10,null,null,1331000,249.67312100000001,null,null,1331000,249.67312100000001,-7.9627716773210596E-10]
[1464100,1156.133454,null,null,1464100,1156.133454,1.4733210384642893E-10,null,null,1464100,303.96773000000002,null,null,1464100,303.96773000000002,-6.0107416397458929E-10]
[1610510,1128.9756030000001,null,null,1610510,1128.9756030000001,8.1387466061646062E-11,null,null,1610510,351.16350999999997,null,null,1610510,351.16350999999997,-4.87825041285726E-10]
[1771561,1100.790849,null,null,1771561,1100.790849,-5.4008123192942358E-11,null,null,1771561,391.029065,null,null,1771561,391.029065,-3.7839665010901488E-10]
[1948717,1068.3763919999999,null,null,1948717,1068.3763919999999,-1.3757577064649103E-10,null,null,1948717,423.456028,null,null,1948717,423.456028,-2.959750293586762E-10]
[2143589,1027.4969960000001,null,null,2143589,1027.4969960000001,-2.5090441980994685E-10,null,null,2143589,448.24836099999999,null,null,2143589,448.24836099999999,-2.4452882018106363E-10]
[2357948,973.95892700000002,null,null,2357948,973.95892700000002,-3.6080899026544047E-11,null,null,2357948,465.25512700000002,null,null,2357948,465.25512700000002,-1.3762259072266957E-10]
[2593742,914.072226,null,null,2593742,914.072226,2.5847769953896681E-10,null,null,2593742,476.80275799999998,null,null,2593742,476.80275799999998,-2.4881560313405161E-11]
[2853117,863.16416600000002,null,null,2853117,863.16416600000002,3.8079439661395513E-10,null,null,2853117,487.38207599999998,null,null,2853117,487.38207599999998,3.0757788521657112E-11]
[3138428,830.78607099999999,null,null,3138428,830.78607099999999,5.2089606412322203E-11,null,null,3138428,499.44848999999999,null,null,3138428,499.44848999999999,-6.3182089052584278E-11]
[3452271,802.06490899999994,null,null,3452271,802.06490899999994,-1.250615476712445E-10,null,null,3452271,507.43840799999998,null,null,3452271,507.43840799999998,-1.0854736751407695E-10]
[3797498,763.569299,null,null,3797498,763.569299,8.2666104261822307E-11,null,null,3797498,506.317522,null,null,3797498,506.317522,-2.6999440021388167E-11]
[4177248,728.58331299999998,null,null,4177248,728.58331299999998,1.0424557464595698E-10,null,null,4177248,500.48668099999998,null,null,4177248,500.48668099999998,1.0469413435144055E-11]
[4594973,702.31694900000002,null,null,4594973,702.31694900000002,-5.3054801933563445E-11,null,null,4594973,495.28581600000001,null,null,4594973,495.28581600000001,2.6282016529937834E-11]
[5054470,671.14411500000006,null,null,5054470,671.14411500000006,4.3016109804853489E-11,null,null,5054470,492.430069,null,null,5054470,492.430069,-2.8445452649790943E-11]
[5559917,641.266481,null,null,5559917,641.266481,-1.2381769418358601E-11,null,null,5559917,485.077585,null,null,5559917,485.077585,-1.4184101137590435E-11]
[6115909,609.42852100000005,null,null,6115909,609.42852100000005,2.8112683470116797E-11,null,null,6115909,474.19557300000002,null,null,6115909,474.19557300000002,2.5781489253247985E-11]
[6727500,581.00250300000005,null,null,6727500,581.00250300000005,9.718278680176689E-12,null,null,6727500,467.54552100000001,null,null,6727500,467.54552100000001,-2.0360797771530136E-13]
[7400250,553.90997700000003,null,null,7400250,553.90997700000003,-7.3009133289792991E-12,null,null,7400250,460.98645099999999,null,null,7400250,460.98645099999999,-1.2638233498216598E-11]
[8140275.0000000009,522.67796499999997,null,null,8140275.0000000009,522.67796499999997,3.3715461066273326E-12,null,null,8140275.0000000009,449.66342100000003,null,null,8140275.0000000009,449.66342100000003,3.4316750656828179E-12]
[8954302,489.66089599999998,null,null,8954302,489.66089599999998,5.8803092699182563E-12,null,null,8954302,437.40327100000002,null,null,8954302,437.40327100000002,1.5379952880317263E-13]
[9849733,457.80469900000003,null,null,9849733,457.80469900000003,7.8776259337353616E-12,null,null,9849733,424.63634300000001,null,null,9849733,424.63634300000001,1.6754022195397426E-12]
[10834706,428.68042600000001,null,null,10834706,428.68042600000001,1.1726730904728009E-12,null,null,10834706,411.87770499999999,null,null,10834706,411.87770499999999,1.4100310197173701E-12]
[11918177,399.27716099999998,null,null,11918177,399.27716099999998,1.8209767078752089E-12,null,null,11918177,398.384794,null,null,11918177,398.384794,-4.1386594163781451E-12]
[13109994,369.93007799999998,null,null,13109994,369.93007799999998,4.638473833057601E-12,null,null,13109994,381.182838,null,null,13109994,381.182838,4.5524672257683489E-12]
[14420994,343.342624,null,null,14420994,343.342624,5.1290118531043782E-13,null,null,14420994,365.46895699999999,null,null,14420994,365.46895699999999,-2.4196899810156913E-12]
[15863093,316.96901200000002,null,null,15863093,316.96901200000002,2.1124998077098234E-12,null,null,15863093,346.97843,null,null,15863093,346.97843,1.6228839271235337E-12]
[17449402,292.38766099999998,null,null,17449402,292.38766099999998,2.0297300028752205E-12,null,null,17449402,328.670097,null,null,17449402,328.670097,8.4652164246349661E-13]
[19194342,270.94708500000002,null,null,19194342,270.94708500000002,1.3626741108903423E-12,null,null,19194342,310.81484499999999,null,null,19194342,310.81484499999999,-2.0692383458854905E-13]
[21113777,252.73023699999999,null,null,21113777,252.73023699999999,1.6936500046830721E-12,null,null,21113777,292.59677099999999,null,null,21113777,292.59677099999999,2.3374856465459319E-12]
[23225154,238.41927699999999,null,null,23225154,238.41927699999999,3.3819058291369228E-15,null,null,23225154,279.25739600000003,null,null,23225154,279.25739600000003,2.8149985884011377E-13]
[25547670,224.60302200000001,null,null,25547670,224.60302200000001,5.8954318133901143E-13,null,null,25547670,267.33541000000002,null,null,25547670,267.33541000000002,-1.3940977339162349E-13]
[28102437,211.62143800000001,null,null,28102437,211.62143800000001,-2.1666004689705212E-13,null,null,28102437,253.672482,null,null,28102437,253.672482,-2.2806974470128533E-13]
[30912681,196.95827299999999,null,null,30912681,196.95827299999999,0,null,null,30912681,237.330242,null,null,30912681,237.330242,0]
[]
[]
[]
[]
[]
[]
[]
[]
[]
[]
[]
[]
[]
[]
[]
[]
[]
[]
[]
[]
[]
[]
[]
[]
[]
[]
[]
[]
[null,null,null,null,null,null,null,null,null,null,null,null,null,null,null,null,"x"]

{"sheet":"LO1238","index":1,"n_rows":35,"n_cols":31,"rows_kept":35,"cut":false,"hidden":false,"merged":[]}
["Calculate impedance of ferrite cored inductor"]
[]
["Reference:"]
["A method for estimating the impedance of a ferrite cored toroidal inductor at RF"]
[]
["Inputs:"]
["Al (nH for 1t)",1150]
["N",9]
["Cs (pF)",2.5]
[]
["Constants:"]
["Mix",{"$f":"Mix!B1","v":"L15"}]
["µi",{"$f":"Mix!B2","v":1100}]
[]
["Calculated values:"]
["2*pi*N^2*Al",{"$f":"2*PI()*$B$8^2*$B$7*0.000000001","v":5.8527871136377849E-4}]
[]
["f (MHz)",1,1.2,1.8,2,2.5,3,3.5,4,4.5,5,5.5,6,{"$f":"M18+1","v":7},8,9,10,11,12,13,14,15,16,17,18,19,22,24,26,28,30]
["µ''",{"$f":"csinterpolate(CSTableU2,'LO1238'!B18*1000000)","v":44.589843000000002},{"$f":"csinterpolate(CSTableU2,'LO1238'!C18*1000000)","v":182.77975122763436},{"$f":"csinterpolate(CSTableU2,'LO1238'!D18*1000000)","v":396.96736570698226},{"$f":"csinterpolate(CSTableU2,'LO1238'!E18*1000000)","v":430.99041407570166},{"$f":"csinterpolate(CSTableU2,'LO1238'!F18*1000000)","v":472.72725384950843},{"$f":"csinterpolate(CSTableU2,'LO1238'!G18*1000000)","v":493.76360178962989},{"$f":"csinterpolate(CSTableU2,'LO1238'!H18*1000000)","v":507.83440686771024},{"$f":"csinterpolate(CSTableU2,'LO1238'!I18*1000000)","v":503.34910377855471},{"$f":"csinterpolate(CSTableU2,'LO1238'!J18*1000000)","v":496.1646169419484},{"$f":"csinterpolate(CSTableU2,'LO1238'!K18*1000000)","v":492.85728858691556},{"$f":"csinterpolate(CSTableU2,'LO1238'!L18*1000000)","v":486.20946075960495},{"$f":"csinterpolate(CSTableU2,'LO1238'!M18*1000000)","v":476.21722845801037},{"$f":"csinterpolate(CSTableU2,'LO1238'!N18*1000000)","v":465.21745550550844},{"$f":"csinterpolate(CSTableU2,'LO1238'!O18*1000000)","v":451.93343690824571},{"$f":"csinterpolate(CSTableU2,'LO1238'!P18*1000000)","v":436.73838443465309},{"$f":"csinterpolate(CSTableU2,'LO1238'!Q18*1000000)","v":422.59121047009216},{"$f":"csinterpolate(CSTableU2,'LO1238'!R18*1000000)","v":409.87399357442223},{"$f":"csinterpolate(CSTableU2,'LO1238'!S18*1000000)","v":397.25116090279914},{"$f":"csinterpolate(CSTableU2,'LO1238'!T18*1000000)","v":382.68783806490291},{"$f":"csinterpolate(CSTableU2,'LO1238'!U18*1000000)","v":370.39317203192849},{"$f":"csinterpolate(CSTableU2,'LO1238'!V18*1000000)","v":358.17768253116998},{"$f":"csinterpolate(CSTableU2,'LO1238'!W18*1000000)","v":345.26519710027696},{"$f":"csinterpolate(CSTableU2,'LO1238'!X18*1000000)","v":333.55576390056382},{"$f":"csinterpolate(CSTableU2,'LO1238'!Y18*1000000)","v":322.90961084683465},{"$f":"csinterpolate(CSTableU2,'LO1238'!Z18*1000000)","v":312.77584267562997},{"$f":"csinterpolate(CSTableU2,'LO1238'!AA18*1000000)","v":286.25698172954156},{"$f":"csinterpolate(CSTableU2,'LO1238'!AB18*1000000)","v":275.22334749579818},{"$f":"csinterpolate(CSTableU2,'LO1238'!AC18*1000000)","v":264.99917161542123},{"$f":"csinterpolate(CSTableU2,'LO1238'!AD18*1000000)","v":254.24510252122312},{"$f":"csinterpolate(CSTableU2,'LO1238'!AE18*1000000)","v":242.72491359941424}]
["µ'",{"$f":"csinterpolate(CSTableU1,'LO1238'!B18*1000000)","v":1276.546112},{"$f":"csinterpolate(CSTableU1,'LO1238'!C18*1000000)","v":1214.9663088499879},{"$f":"csinterpolate(CSTableU1,'LO1238'!D18*1000000)","v":1095.7699304386274},{"$f":"csinterpolate(CSTableU1,'LO1238'!E18*1000000)","v":1058.3006801238837},{"$f":"csinterpolate(CSTableU1,'LO1238'!F18*1000000)","v":937.07338583261617},{"$f":"csinterpolate(CSTableU1,'LO1238'!G18*1000000)","v":844.31143272842257},{"$f":"csinterpolate(CSTableU1,'LO1238'!H18*1000000)","v":797.07104693964345},{"$f":"csinterpolate(CSTableU1,'LO1238'!I18*1000000)","v":743.2315028759557},{"$f":"csinterpolate(CSTableU1,'LO1238'!J18*1000000)","v":708.11562731820959},{"$f":"csinterpolate(CSTableU1,'LO1238'!K18*1000000)","v":674.76004158958858},{"$f":"csinterpolate(CSTableU1,'LO1238'!L18*1000000)","v":644.69782745190764},{"$f":"csinterpolate(CSTableU1,'LO1238'!M18*1000000)","v":615.76489165790952},{"$f":"csinterpolate(CSTableU1,'LO1238'!N18*1000000)","v":569.93329882179773},{"$f":"csinterpolate(CSTableU1,'LO1238'!O18*1000000)","v":528.63431875196375},{"$f":"csinterpolate(CSTableU1,'LO1238'!P18*1000000)","v":487.90737687842227},{"$f":"csinterpolate(CSTableU1,'LO1238'!Q18*1000000)","v":453.02901971474984},{"$f":"csinterpolate(CSTableU1,'LO1238'!R18*1000000)","v":424.08678144289115},{"$f":"csinterpolate(CSTableU1,'LO1238'!S18*1000000)","v":397.13409443577063},{"$f":"csinterpolate(CSTableU1,'LO1238'!T18*1000000)","v":372.42360842540705},{"$f":"csinterpolate(CSTableU1,'LO1238'!U18*1000000)","v":351.44405278920402},{"$f":"csinterpolate(CSTableU1,'LO1238'!V18*1000000)","v":332.43868131495361},{"$f":"csinterpolate(CSTableU1,'LO1238'!W18*1000000)","v":314.64088750897349},{"$f":"csinterpolate(CSTableU1,'LO1238'!X18*1000000)","v":298.82400395028014},{"$f":"csinterpolate(CSTableU1,'LO1238'!Y18*1000000)","v":285.05111068540396},{"$f":"csinterpolate(CSTableU1,'LO1238'!Z18*1000000)","v":273.0924680210851},{"$f":"csinterpolate(CSTableU1,'LO1238'!AA18*1000000)","v":246.2382045710138},{"$f":"csinterpolate(CSTableU1,'LO1238'!AB18*1000000)","v":233.65158287686597},{"$f":"csinterpolate(CSTableU1,'LO1238'!AC18*1000000)","v":222.1746689170802},{"$f":"csinterpolate(CSTableU1,'LO1238'!AD18*1000000)","v":212.13405905712722},{"$f":"csinterpolate(CSTableU1,'LO1238'!AE18*1000000)","v":201.35610574452863}]
["Rl",{"$f":"B19/$B$13*$B$16*B18*1000000","v":23.72498713723018},116.70228792207475,380.18707896183764,458.63548029157812,628.81181354449564,788.15270338301571,945.71485030184351,1071.2709630022739,1187.9778584785349,1311.1767215927082,1422.8402332312962,1520.2898498243694,1732.7028273049086,1923.6874150971748,2091.3846450955552,2248.4876281599531,2398.9052278076347,2536.3925186286037,2647.025073930743,2759.0593981336833,2858.642351878741,2939.2926492743431,3017.0840820750964,3092.5983423831472,3161.9634552648549,3350.8023477110155,3514.5243525723527,3665.9615596037324,3787.7444429789543,3874.4106722004444]
["Xl",{"$f":"B20/$B$13*$B$16*B18*1000000","v":679.21387584345609},775.73881701177527,1049.4504210081227,1126.1833787242128,1246.4752357122873,1347.7022927372639,1484.3459120579482,1581.8093681752862,1695.4568257637263,1795.1031255514727,1886.6395683504006,1965.7859034141711,2122.7170789855481,2250.1702753586783,2336.4147338532357,2410.4385533549503,2482.0896494930771,2535.6450657816977,2576.0281136988351,2617.9073751463698,2653.2174955566798,2678.5834644888378,2702.9277956926717,2730.016582932551,2760.7899523310516,2882.3595811970686,2983.6646691115461,3073.5333654163946,3160.3739674518611,3214.0756935105387]
["Yl",{"$f":"IMDIV(1,COMPLEX(B21,B22))","v":"0.0000513645304608521-0.00147049613192193i"},"0.000189639516547909-0.00126056426866103i","0.000305153397853889-0.000842330998529192i","0.00031017480531099-0.000761636910467935i","0.000322615700442072-0.000639511651325809i","0.000323346535604678-0.000552906645517528i","0.000305299821236454-0.000479183066079289i","0.00029351961296631-0.000433403022734884i","0.000277185070430571-0.000395592658825472i","0.000265335544636738-0.000363265040976883i","0.000254811962352086-0.000337872320050081i","0.000246177046931095-0.000318315200655441i","0.000230775133038831-0.000282720330680505i","0.000219502811126584-0.000256756215733605i","0.000212696374112097-0.000237616233569486i","0.000206930436297737-0.000221834932631057i","0.000201326183833296-0.000208307369241615i","0.000197188472878288-0.000197130363147894i","0.000194025547250701-0.000188821507365399i","0.000190729187718995-0.00018097158311379i","0.000187927640255245-0.000174422974841957i","0.00018586354254307-0.000169377830353196i","0.000183871952453232-0.000164726138753249i","0.000181734157867409-0.00016042732024521i","0.000179453354794732-0.000156685245050657i","0.000171520480586086-0.000147541886774239i","0.000165357194752786-0.000140380424283069i","0.00016018441582998-0.000134298229446354i","0.000155650251351646-0.00012986963872679i","0.000152888938680296-0.000126831320475348i"]
["Yc",{"$f":"COMPLEX(0,2*PI()*B18*1000000*$B$9*0.000000000001)","v":"0.000015707963267949i"},"0.0000188495559215388i","0.0000282743338823081i","0.0000314159265358979i","0.0000392699081698724i","0.0000471238898038469i","0.0000549778714378214i","0.0000628318530717959i","0.0000706858347057703i","0.0000785398163397448i","0.0000863937979737193i","0.0000942477796076938i","0.000109955742875643i","0.000125663706143592i","0.000141371669411541i","0.00015707963267949i","0.000172787595947439i","0.000188495559215388i","0.000204203522483337i","0.000219911485751286i","0.000235619449019234i","0.000251327412287183i","0.000267035375555132i","0.000282743338823081i","0.00029845130209103i","0.000345575191894877i","0.000376991118430775i","0.000408407044966673i","0.000439822971502571i","0.000471238898038469i"]
["Z",{"$f":"IMDIV(1,IMSUM(B23,B24))","v":"24.2394492156038+686.529471157642i"},"120.190952029867+786.981933883745i","403.745213561813+1077.06971061369i","492.785958088736+1160.12855016596i","694.736907291086+1292.59081841258i","897.264681016838+1403.51280436817i","1117.6673937173+1552.96623619398i","1313.42346093575+1658.20901459749i","1519.68825432926+1781.32640260583i","1751.72036596937+1879.72921375805i","1988.06899324073+1962.06115125476i","2221.62707604748+2022.09854925727i","2776.91818892869+2078.87704346969i","3358.02036569607+2005.4928441878i","3902.48786869529+1765.86575874724i","4401.51525155314+1377.37804769147i","4817.12040327563+849.879640080887i","5061.58461713987+221.644754984071i","5121.76989418054-406.045198991702i","5033.23730451975-1027.60239758465i","4811.03301309528-1566.65755581261i","4504.58267300304-1986.12735875374i","4152.85124399179-2310.711534064i","3787.0346101916-2548.86038580151i","3431.15691845281-2710.57394258383i","2498.97019161134-2885.24918278998i","1984.42233088716-2839.52292426943i","1589.21482981748-2719.47675029112i","1293.87156692521-2576.54453410589i","1076.74630812856-2425.54883848104i"]
["R",{"$f":"IMREAL(B25)","v":24.239449215603798},120.19095202986701,403.74521356181299,492.78595808873598,694.73690729108603,897.26468101683804,1117.6673937173,1313.42346093575,1519.68825432926,1751.7203659693701,1988.0689932407299,2221.6270760474799,2776.9181889286901,3358.0203656960698,3902.4878686952902,4401.5152515531399,4817.1204032756305,5061.5846171398698,5121.7698941805402,5033.2373045197501,4811.0330130952798,4504.5826730030403,4152.8512439917904,3787.0346101916002,3431.1569184528098,2498.9701916113399,1984.4223308871599,1589.21482981748,1293.8715669252099,1076.74630812856]
["X",{"$f":"IMAGINARY(B25)","v":686.52947115764198},786.981933883745,1077.0697106136899,1160.12855016596,1292.5908184125799,1403.51280436817,1552.96623619398,1658.2090145974901,1781.32640260583,1879.72921375805,1962.06115125476,2022.09854925727,2078.8770434696899,2005.4928441878001,1765.8657587472401,1377.3780476914701,849.87964008088704,221.644754984071,-406.04519899170202,-1027.6023975846499,-1566.6575558126101,-1986.1273587537401,-2310.7115340639998,-2548.8603858015099,-2710.5739425838301,-2885.2491827899798,-2839.52292426943,-2719.47675029112,-2576.5445341058899,-2425.5488384810401]
["|Z|",{"$f":"IMABS(B25)","v":686.95725170222022},796.10704632558372,1150.2562144998531,1260.4508135582307,1467.4639328436274,1665.8127445261225,1913.3438096006998,2115.3577295173559,2341.4901543604537,2569.4174743718308,2793.2243524551272,3004.0821240331684,3468.8621174483533,3911.304427491938,4283.4207642058564,4611.9959665981141,4891.5175950085668,5066.4351603350178,5137.8399695356757,5137.0657433140723,5059.6891752633774,4923.0038536557458,4752.4268798562871,4564.9009195268709,4372.6478130831701,3817.0033881766813,3464.2203198952639,3149.786908774267,2883.1727953642385,2653.8028901795265]
[]
[]
[]
["Module","Version","Date"]
["CubicSpline",{"$f":"CubicSpline_version(\"v\")","v":"1.03"},{"$f":"CubicSpline_version(\"d\")","v":"2010-07-06"}]
[]
["Copyright: Owen Duffy 2010. All rights reserved."]